BEGIN:VCALENDAR
PRODID:-//hacksw/handcal//NONSGML v1.0//EN
VERSION:2.0
METHOD:PUBLISH
BEGIN:VEVENT
DTSTART:20161206T230000Z
DTEND:20161207T010000Z
LOCATION:CITY FISH MARKET
UID:1408220161206T230000ZHOLIDAY PARTY
DTSTAMP:20260422T081939Z
DESCRIPTION:\nHOLIDAY PARTY\n \n*********\n \nDECEMBER 6, 2016\n \nCITY FISH MARKET\n \n6:00 PM TO 8:00 PM\n \nRSVP BY 11/28/16\n \nSPACE IS LIMITED TO 100 PEOPLE\n \nMEMBERS FREE\n \nSPOUSES OR SIGNIFICANT OTHERS $20\n \n2 drink tickets/each plus hors d’oeuvres\n \nThank you to our Holiday Sponsors\n \nTransition Management Estate Services-Platinum\n \nwww.transitionsmanagementestateservices.com\n \nBCG Valuations-Silver\n \nwww.bcgvaluations.com\n \nHuth Pratt Milhauser-Silver\n \nwww.hpmlawyers.com\n \nWe will again be collecting food and/or monetary donations that will be given to Boca Helping Hands for the upcoming holidays.\n
SUMMARY:HOLIDAY PARTY - Greater Boca Raton Estate Planning Council 
PRIORITY:3
BEGIN:VALARM
TRIGGER:PT18H
ACTION:DISPLAY
DESCRIPTION:Reminder
END:VALARM
END:VEVENT
END:VCALENDAR