BEGIN:VCALENDAR
PRODID:-//hacksw/handcal//NONSGML v1.0//EN
VERSION:2.0
METHOD:PUBLISH
BEGIN:VEVENT
DTSTART:20190518T220000Z
DTEND:20190519T020000Z
LOCATION:Delray Beach Club
UID:1763620190518T220000ZEnd of Year Dinner/Dance
DTSTAMP:20260422T083704Z
DESCRIPTION:\nREGISTRATION CLOSED\n
SUMMARY:End of Year Dinner/Dance - Greater Boca Raton Estate Planning Council 
PRIORITY:3
BEGIN:VALARM
TRIGGER:PT18H
ACTION:DISPLAY
DESCRIPTION:Reminder
END:VALARM
END:VEVENT
END:VCALENDAR