BEGIN:VCALENDAR
PRODID:-//hacksw/handcal//NONSGML v1.0//EN
VERSION:2.0
METHOD:PUBLISH
BEGIN:VEVENT
DTSTART:20191119T223000Z
DTEND:20191120T003000Z
LOCATION:Woodfield Country Club
UID:1819820191119T223000ZPart 2 -  “Estate Planning with Retirement Assets” - RESERVATIONS CLOSED
DTSTAMP:20260422T082817Z
DESCRIPTION:\nCOCKTAILS, DINNER, AND SPEAKER\n \n5:30 PM – 7:30 PM\n \nBOB KIRKLAND\n \n"ESTATE PLANNING WITH RETIREMENT ASSETS"\n \n \n \nA Special Thanks to Our Dinner Sponsor\n \nNOAH RUBIN, UBS, BV GROUP\n \n \n \nBob Kirkland is the Founding Partner of the law firm of Kirkland Woods & Martinsen LLP.  Mr. Kirkland is a Fellow of the American College of Trust and Estate Counsel ("ACTEC"), is a past Missouri State Chair of ACTEC, and a past member of the ACTEC Board of Regents and ACTEC Executive Committee. He is a frequent author and lecturer in the estate planning and charitable giving areas. He has lectured on a variety of topics at seminars sponsored by ACTEC, The Heckerling Institute, ALI-CLE, Society of Trust and Estate Practitioners, The Missouri Bar, The Kansas Bar Association, The Oklahoma Bar Association, the Hawaii Tax Institute, the Southern Federal Tax Institute, the Notre Dame Estate Planning Institute, the Duke University Estate Planning Conference, the Florida Fellows Institute, the UCLA Institute on Estate Planning, The MO-KAN Trust Conference, the American Heart Association, and the Estate Planning Councils of Greenville, New York City, Baltimore, Louisville, Philadelphia and St. Louis.\n\n  \n \nAttachment(s)-\n \n[Bob Kirkland - Estate Planning with Retirement Assets  11-19-2019](http://www.bocaratonepc.org/assets/Councils/BocaRaton-FL/library/Bob%20Kirkland%20Outline%20-%20Recent%20Developments%20in%20Estate%20Planning%20WIth%20Retirement%20Assets.docx)\n \n \n \nRules for Guests\n \nThe fee to bring a guest is $65 or $78, depending on the dinner selection. Paid guests need not have any special qualifications. A person can only be a guest twice during the 2019-2020 fiscal year, regardless which member brings that person.\n \nMembers are allowed to bring one guest for free during the 2019-2020 fiscal year. However, the free guest must be someone who would qualify for membership under our current rules.\n \nNo-Shows to Events\n \nIf you rsvp and cannot attend, please email Sylvia Tausk our council administrator, bocaratonepc@gmail.com, even if it is the same day of the event.\n \n \n
SUMMARY:Part 2 -  “Estate Planning with Retirement Assets” - RESERVATIONS CLOSED - Greater Boca Raton Estate Planning Council 
PRIORITY:3
BEGIN:VALARM
TRIGGER:PT18H
ACTION:DISPLAY
DESCRIPTION:Reminder
END:VALARM
END:VEVENT
END:VCALENDAR