BEGIN:VCALENDAR
PRODID:-//hacksw/handcal//NONSGML v1.0//EN
VERSION:2.0
METHOD:PUBLISH
BEGIN:VEVENT
DTSTART:20210309T130000Z
DTEND:20210309T143000Z
LOCATION:Zoom Meeting
UID:1977920210309T130000ZBoard Meeting
DTSTAMP:20260422T083637Z
DESCRIPTION:
SUMMARY:Board Meeting - Greater Boca Raton Estate Planning Council 
PRIORITY:3
BEGIN:VALARM
TRIGGER:PT18H
ACTION:DISPLAY
DESCRIPTION:Reminder
END:VALARM
END:VEVENT
END:VCALENDAR