BEGIN:VCALENDAR
PRODID:-//hacksw/handcal//NONSGML v1.0//EN
VERSION:2.0
METHOD:PUBLISH
BEGIN:VEVENT
DTSTART:20201020T213000Z
DTEND:20201020T223000Z
LOCATION:The Web
UID:1994220201020T213000ZGBREPC October Meeting
DTSTAMP:20260422T083138Z
DESCRIPTION:
SUMMARY:GBREPC October Meeting - Greater Boca Raton Estate Planning Council 
PRIORITY:3
BEGIN:VALARM
TRIGGER:PT18H
ACTION:DISPLAY
DESCRIPTION:Reminder
END:VALARM
END:VEVENT
END:VCALENDAR