BEGIN:VCALENDAR
PRODID:-//hacksw/handcal//NONSGML v1.0//EN
VERSION:2.0
METHOD:PUBLISH
BEGIN:VEVENT
DTSTART:20210203T170000Z
DTEND:20210203T180000Z
LOCATION:Zoom
UID:2051320210203T170000ZDon’t Miss the Judicial  Forum February 3, 2021 ~ Register Today
DTSTAMP:20260422T082948Z
DESCRIPTION:\nSponsored by:  The Law Office of Daniel Seigel\n
SUMMARY:Don’t Miss the Judicial  Forum February 3, 2021 ~ Register Today - Greater Boca Raton Estate Planning Council 
PRIORITY:3
BEGIN:VALARM
TRIGGER:PT18H
ACTION:DISPLAY
DESCRIPTION:Reminder
END:VALARM
END:VEVENT
END:VCALENDAR