BEGIN:VCALENDAR
PRODID:-//hacksw/handcal//NONSGML v1.0//EN
VERSION:2.0
METHOD:PUBLISH
BEGIN:VEVENT
DTSTART:20220208T223000Z
DTEND:20220209T003000Z
LOCATION:Woodfield Country Club or Zoom
UID:2116520220208T223000ZGBREPC:  February Dinner Meeting - "Life Insurance in a 'New Normal': Best Practices in Turbulent Times".
DTSTAMP:20260422T082057Z
DESCRIPTION:\nSponsored by:\n \nThe Gardens of Boca Raton\n \n  \n \nThis meeting will be in a "hybrid format." This means that our members will have the option to attend in-person at Woodfield Country Club or via Zoon. Once you you click the RSVP link, you will be prompted to indicate how you would like to attend. For those members that are attending in person at Woodfield, we want to assure you that we are taking necessary steps to provide a comfort level for our in-person attendees and we are working to make it as safe an environment as possible.  To that end, (i) our pre-dinner cocktail reception will be held outside on the outdoor patio next to the meeting room; (ii) hand sanitizer will be located throughout the meeting room and at the registration table; and (iii) masks will be available for attendees if they wo uld like. \n 
SUMMARY:GBREPC:  February Dinner Meeting - "Life Insurance in a 'New Normal': Best Practices in Turbulent Times". - Greater Boca Raton Estate Planning Council 
PRIORITY:3
BEGIN:VALARM
TRIGGER:PT18H
ACTION:DISPLAY
DESCRIPTION:Reminder
END:VALARM
END:VEVENT
END:VCALENDAR