BEGIN:VCALENDAR
PRODID:-//hacksw/handcal//NONSGML v1.0//EN
VERSION:2.0
METHOD:PUBLISH
BEGIN:VEVENT
DTSTART:20220419T213000Z
DTEND:20220419T233000Z
LOCATION:Woodfield Country Club
UID:2116620220419T213000ZGBREPC:  April Dinner Meeting - "Current Events/Hot Estate Planning Topics"
DTSTAMP:20260422T083018Z
DESCRIPTION:\nSponsored by:\n \n \n \n                                   \n \n \n \n \n \nThis is also a hybrid meeting.  \n \n \n
SUMMARY:GBREPC:  April Dinner Meeting - "Current Events/Hot Estate Planning Topics" - Greater Boca Raton Estate Planning Council 
PRIORITY:3
BEGIN:VALARM
TRIGGER:PT18H
ACTION:DISPLAY
DESCRIPTION:Reminder
END:VALARM
END:VEVENT
END:VCALENDAR