BEGIN:VCALENDAR
PRODID:-//hacksw/handcal//NONSGML v1.0//EN
VERSION:2.0
METHOD:PUBLISH
BEGIN:VEVENT
DTSTART:20211012T114500Z
DTEND:20211012T131500Z
LOCATION:Virtual Meeting
UID:2167320211012T114500ZGBREPC: October Board Meeting
DTSTAMP:20260422T082704Z
DESCRIPTION:\nBoca Raton Estate Planning Council is inviting you to a scheduled Zoom meeting. \n  \nTopic: GBREPC: BOARD MEETING, Oct. 12, 2021, 7:45AM \nTime: Oct 12, 2021 07:30 AM Eastern Time (US and Canada) \n  \nJoin Zoom Meeting \nhttps://us06web.zoom.us/j/82363560246?pwd=YVVyRFRaRWRVcENDSUgrQ3JNTzhHQT09 \n  \nMeeting ID: 823 6356 0246 \nPasscode: 303531 \nOne tap mobile \n+13017158592,,82363560246#,,,,*303531# US (Washington DC) \n+13126266799,,82363560246#,,,,*303531# US (Chicago) \n  \nDial by your location \n        +1 301 715 8592 US (Washington DC) \n        +1 312 626 6799 US (Chicago) \n        +1 646 558 8656 US (New York) \n        +1 253 215 8782 US (Tacoma) \n        +1 346 248 7799 US (Houston) \n        +1 720 707 2699 US (Denver) \nMeeting ID: 823 6356 0246 \nPasscode: 303531 \nFind your local number: https://us06web.zoom.us/u/kczzdTAee8
SUMMARY:GBREPC: October Board Meeting - Greater Boca Raton Estate Planning Council 
PRIORITY:3
BEGIN:VALARM
TRIGGER:PT18H
ACTION:DISPLAY
DESCRIPTION:Reminder
END:VALARM
END:VEVENT
END:VCALENDAR