BEGIN:VCALENDAR
PRODID:-//hacksw/handcal//NONSGML v1.0//EN
VERSION:2.0
METHOD:PUBLISH
BEGIN:VEVENT
DTSTART:20220111T124500Z
DTEND:20220111T141500Z
LOCATION:
UID:2167620220111T124500ZGBREPC: January Board Meeting
DTSTAMP:20260422T083540Z
DESCRIPTION:
SUMMARY:GBREPC: January Board Meeting - Greater Boca Raton Estate Planning Council 
PRIORITY:3
BEGIN:VALARM
TRIGGER:PT18H
ACTION:DISPLAY
DESCRIPTION:Reminder
END:VALARM
END:VEVENT
END:VCALENDAR