BEGIN:VCALENDAR
PRODID:-//hacksw/handcal//NONSGML v1.0//EN
VERSION:2.0
METHOD:PUBLISH
BEGIN:VEVENT
DTSTART:20211105T120000Z
DTEND:20211105T130000Z
LOCATION:Zoom
UID:2186220211105T120000ZGBREPC: November Executive Board Meeting
DTSTAMP:20260422T083540Z
DESCRIPTION:
SUMMARY:GBREPC: November Executive Board Meeting - Greater Boca Raton Estate Planning Council 
PRIORITY:3
BEGIN:VALARM
TRIGGER:PT18H
ACTION:DISPLAY
DESCRIPTION:Reminder
END:VALARM
END:VEVENT
END:VCALENDAR