BEGIN:VCALENDAR
PRODID:-//hacksw/handcal//NONSGML v1.0//EN
VERSION:2.0
METHOD:PUBLISH
BEGIN:VEVENT
DTSTART:20220408T120000Z
DTEND:20220408T130000Z
LOCATION:
UID:2186720220408T120000ZGBREPC: April Executive Board Meeting
DTSTAMP:20260422T083540Z
DESCRIPTION:
SUMMARY:GBREPC: April Executive Board Meeting - Greater Boca Raton Estate Planning Council 
PRIORITY:3
BEGIN:VALARM
TRIGGER:PT18H
ACTION:DISPLAY
DESCRIPTION:Reminder
END:VALARM
END:VEVENT
END:VCALENDAR