BEGIN:VCALENDAR
PRODID:-//hacksw/handcal//NONSGML v1.0//EN
VERSION:2.0
METHOD:PUBLISH
BEGIN:VEVENT
DTSTART:20220506T120000Z
DTEND:20220506T130000Z
LOCATION:
UID:2186820220506T120000ZGBREPC: May Executive Board Meeting
DTSTAMP:20260422T083329Z
DESCRIPTION:
SUMMARY:GBREPC: May Executive Board Meeting - Greater Boca Raton Estate Planning Council 
PRIORITY:3
BEGIN:VALARM
TRIGGER:PT18H
ACTION:DISPLAY
DESCRIPTION:Reminder
END:VALARM
END:VEVENT
END:VCALENDAR