BEGIN:VCALENDAR
PRODID:-//hacksw/handcal//NONSGML v1.0//EN
VERSION:2.0
METHOD:PUBLISH
BEGIN:VEVENT
DTSTART:20220607T214500Z
DTEND:20220608T010000Z
LOCATION:801 East Atlantic Ave, Delray  Beach
UID:2263020220607T214500Z*Cruising' Good Time - June 7th*
DTSTAMP:20260422T082829Z
DESCRIPTION:\n"Calling all members.......We are cruising!!"\n \nDon’t let Captain Joe leave the dock without you!!\n \nPlease join us as we say Bon Voyage to this season on the lovely Lady Atlantic ~\n \nWe will leave the dock promptly at 6pm for a three hour sunset cruise ~\n \nCome dance under the stars ~\n \nPlease RSVP by Wednesday, May 18th – it will be an unforgettable night!!\n \n ~ You and your guest may come aboard for $25.00 per person ~\n
SUMMARY:*Cruising' Good Time - June 7th* - Greater Boca Raton Estate Planning Council 
PRIORITY:3
BEGIN:VALARM
TRIGGER:PT18H
ACTION:DISPLAY
DESCRIPTION:Reminder
END:VALARM
END:VEVENT
END:VCALENDAR