BEGIN:VCALENDAR
PRODID:-//hacksw/handcal//NONSGML v1.0//EN
VERSION:2.0
METHOD:PUBLISH
BEGIN:VEVENT
DTSTART:20221206T233000Z
DTEND:20221207T023000Z
LOCATION:Addison Events Center
UID:2333320221206T233000ZTHIS EVENT IS CLOSED! Holiday Party Event - Jingle & Mingle
DTSTAMP:20260422T083329Z
DESCRIPTION:\n \n \n \n \n \n \n \n \n \n
SUMMARY:THIS EVENT IS CLOSED! Holiday Party Event - Jingle & Mingle - Greater Boca Raton Estate Planning Council 
PRIORITY:3
BEGIN:VALARM
TRIGGER:PT18H
ACTION:DISPLAY
DESCRIPTION:Reminder
END:VALARM
END:VEVENT
END:VCALENDAR