BEGIN:VCALENDAR
PRODID:-//hacksw/handcal//NONSGML v1.0//EN
VERSION:2.0
METHOD:PUBLISH
BEGIN:VEVENT
DTSTART:20230214T130000Z
DTEND:20230214T141500Z
LOCATION:Zoom or 4855 Technology Way, Suite 630  Boca Raton, FL 33431
UID:2336820230214T130000ZFebruary Board Meeting - Hybrid
DTSTAMP:20260422T082829Z
DESCRIPTION:\nBoca Raton Estate Planning Council is inviting you to a scheduled Zoom meeting. \n  \nTopic: February Board Meting \nTime: Feb 14, 2023 07:45 AM Eastern Time (US and Canada) \n  \nJoin Zoom Meeting \nhttps://us06web.zoom.us/j/85749438947?pwd=cUZnbkZvMS93QzJ0VXBadVdzbEFoUT09 \n  \nMeeting ID: 857 4943 8947 \nPasscode: 601641 \nOne tap mobile \n+16465588656,,85749438947#,,,,*601641# US (New York) \n+16469313860,,85749438947#,,,,*601641# US \n  \nDial by your location \n        +1 646 558 8656 US (New York) \n        +1 646 931 3860 US \n        +1 301 715 8592 US (Washington DC) \n        +1 309 205 3325 US \n        +1 312 626 6799 US (Chicago) \n        +1 564 217 2000 US \n        +1 669 444 9171 US \n        +1 719 359 4580 US \n        +1 720 707 2699 US (Denver) \n        +1 253 215 8782 US (Tacoma) \n        +1 346 248 7799 US (Houston) \n        +1 386 347 5053 US \nMeeting ID: 857 4943 8947 \nPasscode: 601641 \nFind your local number: https://us06web.zoom.us/u/kcN6kFi5zT
SUMMARY:February Board Meeting - Hybrid - Greater Boca Raton Estate Planning Council 
PRIORITY:3
BEGIN:VALARM
TRIGGER:PT18H
ACTION:DISPLAY
DESCRIPTION:Reminder
END:VALARM
END:VEVENT
END:VCALENDAR