BEGIN:VCALENDAR
PRODID:-//hacksw/handcal//NONSGML v1.0//EN
VERSION:2.0
METHOD:PUBLISH
BEGIN:VEVENT
DTSTART:20240221T213000Z
DTEND:20240221T223000Z
LOCATION:Woodfield - Before Scheduled Dinner Meeting
UID:2561620240221T213000ZFebruary 21, 2024 Speaker's Forum
DTSTAMP:20260422T082508Z
DESCRIPTION:\nSpeakers Forum will start @ 4:30PM right before the Dinner Meeting.\n \n \n \nTopics and Speakers:\n \n1. Business Owner Exit Planning - John Clidas\n \n2. Special Needs Trusts - A Primer - Heather Boyer Samuels\n \n3. Corporate Transparency Act - Ed Smith\n
SUMMARY:February 21, 2024 Speaker's Forum - Greater Boca Raton Estate Planning Council 
PRIORITY:3
BEGIN:VALARM
TRIGGER:PT18H
ACTION:DISPLAY
DESCRIPTION:Reminder
END:VALARM
END:VEVENT
END:VCALENDAR