BEGIN:VCALENDAR
PRODID:-//hacksw/handcal//NONSGML v1.0//EN
VERSION:2.0
METHOD:PUBLISH
BEGIN:VEVENT
DTSTART:20250215T140000Z
DTEND:20250215T170000Z
LOCATION:Morikami Museum and Japanese Gardens
UID:2731020250215T140000ZFebruary 15 - Family Fun Day at Morikami Museum and Japanese Gardens
DTSTAMP:20260422T083111Z
DESCRIPTION:------\n\nWe are excited to invite you and your family to our upcoming Family Fun Day! This is a wonderful opportunity to connect with fellow members while enjoying a day filled with fun and family. We HIGHLY encourage you and your families to arrive as close to 9:00 AM as possible because the refreshments and entertainment will go live at 9:00 AM and will conclude at 10:00 AM (as the venue will be open to the general public at this time).\n \nWhat to Expect:\n Early park access Engaging activities for kids Guided Tours Delicious food and refreshments Entertainment A chance to bond with your colleagues and their families in a relaxed, fun-filled environment \nBring your loved ones and join us for a day of joy and camaraderie. Whether you’re enjoying the entertainment, or simply soaking up the festive atmosphere, there will be something for everyone to enjoy. Again, we HIGHLY encourage members to arrive at 9:00 AM to take full advantage of the entertainment and refreshments which will conclude shortly thereafter. We can’t wait to see you and your family there!\n \nIf you and your family plan to attend, please be sure to register yourself and your family members so we have an accurate headcount for planning purposes. Thank you for your support of the GBREPC!\n  \n \nPlease register before February 7th to secure your spot, thank you!\n  \n \nThis special event is generously sponsored by:\n  \n \n\n\n  \n \nThe Harbor Financial Group at\n\n
SUMMARY:February 15 - Family Fun Day at Morikami Museum and Japanese Gardens - Greater Boca Raton Estate Planning Council 
PRIORITY:3
BEGIN:VALARM
TRIGGER:PT18H
ACTION:DISPLAY
DESCRIPTION:Reminder
END:VALARM
END:VEVENT
END:VCALENDAR