BEGIN:VCALENDAR
PRODID:-//hacksw/handcal//NONSGML v1.0//EN
VERSION:2.0
METHOD:PUBLISH
BEGIN:VEVENT
DTSTART:20250319T223000Z
DTEND:20250320T003000Z
LOCATION:Morikami Museum & Japanese Gardens
UID:2744820250319T223000ZCocktails & Conversation at Morikami Museum & Japanese Gardens
DTSTAMP:20260422T083356Z
DESCRIPTION:\nRegistration for this special event is now closed.\n
SUMMARY:Cocktails & Conversation at Morikami Museum & Japanese Gardens - Greater Boca Raton Estate Planning Council 
PRIORITY:3
BEGIN:VALARM
TRIGGER:PT18H
ACTION:DISPLAY
DESCRIPTION:Reminder
END:VALARM
END:VEVENT
END:VCALENDAR