BEGIN:VCALENDAR
PRODID:-//hacksw/handcal//NONSGML v1.0//EN
VERSION:2.0
METHOD:PUBLISH
BEGIN:VEVENT
DTSTART:20250516T230000Z
DTEND:20250517T020000Z
LOCATION:Waterstone Resort
UID:2754320250516T230000ZYear End Retro 70's Bash
DTSTAMP:20260422T082704Z
DESCRIPTION:\n***Registration for this special event is now closed.***\n \nMembers of the Greater Boca Raton Estate Planning Council:\n \nAs we wrap up an incredible 2024/2025 season, we look forward to celebrating with you one last time before we break for the summer. Please join us for a memorable Retro ‘70s Bash at the Waterstone Resort on Friday, May 16 from 7-10 pm.  Get ready to groove! Come dressed in your best '70s-inspired attire—think bell bottoms, bold prints, platform shoes, and disco vibes. Whether you're channeling your inner disco diva or going full-on flower child, we can't wait to see your throwback style!  Event details are included in the attached invitation. \n \nAll Members are invited to bring a guest and the fee is $50.00 per attendee.  Mark your calendars for May 16th — we can't wait to enjoy this special evening with you!\n \nWe look forward to celebrating with everyone on May 16th!\n \nBest regards,\n Bill\n\n\n William C. Miller, President \n GBREPC 2024/25 \n
SUMMARY:Year End Retro 70's Bash - Greater Boca Raton Estate Planning Council 
PRIORITY:3
BEGIN:VALARM
TRIGGER:PT18H
ACTION:DISPLAY
DESCRIPTION:Reminder
END:VALARM
END:VEVENT
END:VCALENDAR