BEGIN:VCALENDAR
PRODID:-//hacksw/handcal//NONSGML v1.0//EN
VERSION:2.0
METHOD:PUBLISH
BEGIN:VEVENT
DTSTART:20260606T223000Z
DTEND:20260607T010000Z
LOCATION:Boca Raton Museum of Art
UID:2918720260606T223000ZEnd of Season Reception - Night at the Museum
DTSTAMP:20260422T064141Z
DESCRIPTION:\n\nGBREPC Members:\n\n As we begin to wrap up what has been a truly outstanding 2025–2026 season, we want to extend our sincere thanks to each of you for your continued support, engagement, and contributions throughout the year. Your involvement is what makes our organization so special.\n \nWe hope you’ll join us in celebrating the season at our End of Season Reception "Night at the Museum" on Saturday, June 6, 2026, from 6:30 PM to 9:00 PM. This year’s event will be hosted at the Boca Raton Museum of Art—an elegant setting and a perfect way to close out the season together. Throughout the evening, guests are invited to explore the museum’s exhibitions with the guidance of knowledgeable docents. Click [HERE](https://bocamuseum.org/art-experience/exhibitions) to view current and upcoming exhibitions. Members are welcome to bring a guest. A fee of $50 applies to each attendee, including both members and guests.\n \nWe look forward to celebrating with you and, in the meantime, wish you a fun, relaxing, and well-deserved summer!\n\nAll the best,\n Mickey\n\n\n Michael Rosenzweig, President\n GBREPC, 2025/26\n \n \n \nThis special event is generously sponsored by:\n\nGold Sponsors\n\n\n\n\n \nCocktail Sponsor\n\n\n\nSponsor\n\n
SUMMARY:End of Season Reception - Night at the Museum - Greater Boca Raton Estate Planning Council 
PRIORITY:3
BEGIN:VALARM
TRIGGER:PT18H
ACTION:DISPLAY
DESCRIPTION:Reminder
END:VALARM
END:VEVENT
END:VCALENDAR